BEGIN:VCALENDAR
VERSION:2.0
PRODID:-//wp-events-plugin.com//7.2.3.1//EN
TZID:America/New_York
X-WR-TIMEZONE:America/New_York
BEGIN:VEVENT
UID:405@westendtemple.org
DTSTART;TZID=America/New_York:20230915T183000
DTEND;TZID=America/New_York:20230915T183000
DTSTAMP:20230803T180141Z
URL:https://www.westendtemple.org/events/birthday-of-the-world-childrens-s
 ervice-rosh-hashanah/
SUMMARY:Birthday of the World Children's Service (Rosh Hashanah)
DESCRIPTION:Celebrate the Birthday of the World with song\, story\, and cup
 cakes!
END:VEVENT
BEGIN:VTIMEZONE
TZID:America/New_York
X-LIC-LOCATION:America/New_York
BEGIN:DAYLIGHT
DTSTART:20230312T030000
TZOFFSETFROM:-0500
TZOFFSETTO:-0400
TZNAME:EDT
END:DAYLIGHT
END:VTIMEZONE
END:VCALENDAR