BEGIN:VCALENDAR
VERSION:2.0
PRODID:-//wp-events-plugin.com//7.2.3.1//EN
TZID:America/New_York
X-WR-TIMEZONE:America/New_York
BEGIN:VEVENT
UID:616@westendtemple.org
DTSTART;TZID=America/New_York:20260404T180000
DTEND;TZID=America/New_York:20260404T210000
DTSTAMP:20260326T153730Z
URL:https://www.westendtemple.org/events/community-passover-seder-2/
SUMMARY:Community Passover Seder- RSVP by 3/27
DESCRIPTION:
END:VEVENT
BEGIN:VTIMEZONE
TZID:America/New_York
X-LIC-LOCATION:America/New_York
BEGIN:DAYLIGHT
DTSTART:20260308T030000
TZOFFSETFROM:-0500
TZOFFSETTO:-0400
TZNAME:EDT
END:DAYLIGHT
END:VTIMEZONE
END:VCALENDAR