BEGIN:VCALENDAR
VERSION:2.0
PRODID:-//wp-events-plugin.com//7.2.3.1//EN
TZID:America/New_York
X-WR-TIMEZONE:America/New_York
BEGIN:VEVENT
UID:504@westendtemple.org
DTSTART;TZID=America/New_York:20241103T113000
DTEND;TZID=America/New_York:20241103T120000
DTSTAMP:20241101T173138Z
URL:https://www.westendtemple.org/events/donuts-with-rabbi-for-5th-12-grad
 ers/
SUMMARY:"Donuts with Rabbi" for 5th-12 graders
DESCRIPTION:
END:VEVENT
BEGIN:VTIMEZONE
TZID:America/New_York
X-LIC-LOCATION:America/New_York
BEGIN:STANDARD
DTSTART:20241103T010000
TZOFFSETFROM:-0400
TZOFFSETTO:-0500
TZNAME:EST
END:STANDARD
END:VTIMEZONE
END:VCALENDAR