BEGIN:VCALENDAR
VERSION:2.0
PRODID:-//wp-events-plugin.com//7.2.3.1//EN
TZID:America/New_York
X-WR-TIMEZONE:America/New_York
BEGIN:VEVENT
UID:310@westendtemple.org
DTSTART;TZID=America/New_York:20221216T180000
DTEND;TZID=America/New_York:20221216T180000
DTSTAMP:20221129T192240Z
URL:https://www.westendtemple.org/events/early-service-potluck/
SUMMARY:Early Service & Potluck!
DESCRIPTION:
END:VEVENT
BEGIN:VTIMEZONE
TZID:America/New_York
X-LIC-LOCATION:America/New_York
BEGIN:STANDARD
DTSTART:20221106T010000
TZOFFSETFROM:-0400
TZOFFSETTO:-0500
TZNAME:EST
END:STANDARD
END:VTIMEZONE
END:VCALENDAR