BEGIN:VCALENDAR
VERSION:2.0
PRODID:-//wp-events-plugin.com//7.2.3.1//EN
TZID:America/New_York
X-WR-TIMEZONE:America/New_York
BEGIN:VEVENT
UID:521@westendtemple.org
DTSTART;TZID=America/New_York:20241222T180000
DTEND;TZID=America/New_York:20241222T210000
DTSTAMP:20241115T180544Z
URL:https://www.westendtemple.org/events/festive-music-and-hanukkah-party-
 byom-bring-your-own-menorah/
SUMMARY:Festive Music and Hanukkah Party (BYOM-Bring your own Menorah)
DESCRIPTION:
END:VEVENT
BEGIN:VTIMEZONE
TZID:America/New_York
X-LIC-LOCATION:America/New_York
BEGIN:STANDARD
DTSTART:20241103T010000
TZOFFSETFROM:-0400
TZOFFSETTO:-0500
TZNAME:EST
END:STANDARD
END:VTIMEZONE
END:VCALENDAR