BEGIN:VCALENDAR
VERSION:2.0
PRODID:-//wp-events-plugin.com//7.2.3.1//EN
TZID:America/New_York
X-WR-TIMEZONE:America/New_York
BEGIN:VEVENT
UID:554@westendtemple.org
DTSTART;TZID=America/New_York:20250705T180000
DTEND;TZID=America/New_York:20250705T200000
DTSTAMP:20250527T174649Z
URL:https://www.westendtemple.org/events/havdalah-service-on-the-beach/
SUMMARY:Havdalah service on the beach
DESCRIPTION:
END:VEVENT
BEGIN:VTIMEZONE
TZID:America/New_York
X-LIC-LOCATION:America/New_York
BEGIN:DAYLIGHT
DTSTART:20250309T030000
TZOFFSETFROM:-0500
TZOFFSETTO:-0400
TZNAME:EDT
END:DAYLIGHT
END:VTIMEZONE
END:VCALENDAR