BEGIN:VCALENDAR
VERSION:2.0
PRODID:-//wp-events-plugin.com//7.2.3.1//EN
TZID:America/New_York
X-WR-TIMEZONE:America/New_York
BEGIN:VEVENT
UID:639@westendtemple.org
DTSTART;TZID=America/New_York:20260208T100000
DTEND;TZID=America/New_York:20260208T113000
DTSTAMP:20260212T152134Z
URL:https://www.westendtemple.org/events/parenting-for-all-ages-with-dr-ji
 ll-hunziger-2026-02-08/
SUMMARY:Parenting for All Ages\, with Dr. Jill Hunziger
DESCRIPTION:
END:VEVENT
BEGIN:VTIMEZONE
TZID:America/New_York
X-LIC-LOCATION:America/New_York
BEGIN:STANDARD
DTSTART:20251102T010000
TZOFFSETFROM:-0400
TZOFFSETTO:-0500
TZNAME:EST
END:STANDARD
END:VTIMEZONE
END:VCALENDAR