BEGIN:VCALENDAR
VERSION:2.0
PRODID:-//wp-events-plugin.com//7.2.3.1//EN
TZID:America/New_York
X-WR-TIMEZONE:America/New_York
BEGIN:VEVENT
UID:359@westendtemple.org
DTSTART;TZID=America/New_York:20230407T180000
DTEND;TZID=America/New_York:20230407T180000
DTSTAMP:20230315T173203Z
URL:https://www.westendtemple.org/events/passover-community-dinner/
SUMMARY:Passover Community Dinner
DESCRIPTION:\n\nPlease join us for a festive and musical Passover dinner!\n
 \nWe'll eat a delicious kosher-for-Passover meat meal and sing\, rejoice\,
  discuss\, and dance in celebration of freedom.\n\n\n$18 suggested donatio
 n per person\n\nRSVP by April 5th by calling the Temple office\, 718-634-0
 301 or emailing k.kuhn@westendtemple.org
END:VEVENT
BEGIN:VTIMEZONE
TZID:America/New_York
X-LIC-LOCATION:America/New_York
BEGIN:DAYLIGHT
DTSTART:20230312T030000
TZOFFSETFROM:-0500
TZOFFSETTO:-0400
TZNAME:EDT
END:DAYLIGHT
END:VTIMEZONE
END:VCALENDAR