BEGIN:VCALENDAR
VERSION:2.0
PRODID:-//wp-events-plugin.com//7.2.3.1//EN
TZID:America/New_York
X-WR-TIMEZONE:America/New_York
BEGIN:VEVENT
UID:406@westendtemple.org
DTSTART;TZID=America/New_York:20230915T193000
DTEND;TZID=America/New_York:20230915T193000
DTSTAMP:20230803T180252Z
URL:https://www.westendtemple.org/events/rosh-hashanah-evening-service-2/
SUMMARY:Rosh Hashanah Evening Service
DESCRIPTION:Followed by festive Oneg sponsored by Dr. Sherry Copeland\, Rab
 bi Rebecca Epstein &amp\; Barak Epstein\n\n
END:VEVENT
BEGIN:VTIMEZONE
TZID:America/New_York
X-LIC-LOCATION:America/New_York
BEGIN:DAYLIGHT
DTSTART:20230312T030000
TZOFFSETFROM:-0500
TZOFFSETTO:-0400
TZNAME:EDT
END:DAYLIGHT
END:VTIMEZONE
END:VCALENDAR