BEGIN:VCALENDAR
VERSION:2.0
PRODID:-//wp-events-plugin.com//7.2.3.1//EN
TZID:America/New_York
X-WR-TIMEZONE:America/New_York
BEGIN:VEVENT
UID:317@westendtemple.org
DTSTART;TZID=America/New_York:20230125T100000
DTEND;TZID=America/New_York:20230125T110000
DTSTAMP:20221228T152846Z
URL:https://www.westendtemple.org/events/senior-discussion-group-38/
SUMMARY:Senior Discussion Group
DESCRIPTION:\n\nJoin Rabbi Epstein for a lively discussion of topics relate
 d to our Jewish experience\, current events\, history\, and more. There is
  no cost to attend.\n\nPlease email Rabbi Epstein\, rabbi.epstein@westend
 temple.org\, for more information.\n\n\n\n\n
END:VEVENT
BEGIN:VTIMEZONE
TZID:America/New_York
X-LIC-LOCATION:America/New_York
BEGIN:STANDARD
DTSTART:20221106T010000
TZOFFSETFROM:-0400
TZOFFSETTO:-0500
TZNAME:EST
END:STANDARD
END:VTIMEZONE
END:VCALENDAR