BEGIN:VCALENDAR
VERSION:2.0
PRODID:-//wp-events-plugin.com//7.2.3.1//EN
TZID:America/New_York
X-WR-TIMEZONE:America/New_York
BEGIN:VEVENT
UID:533@westendtemple.org
DTSTART;TZID=America/New_York:20250307T193000
DTEND;TZID=America/New_York:20250307T214500
DTSTAMP:20250109T172156Z
URL:https://www.westendtemple.org/events/shabbat-service-4/
SUMMARY:Shabbat Service
DESCRIPTION:
END:VEVENT
BEGIN:VTIMEZONE
TZID:America/New_York
X-LIC-LOCATION:America/New_York
BEGIN:STANDARD
DTSTART:20241103T010000
TZOFFSETFROM:-0400
TZOFFSETTO:-0500
TZNAME:EST
END:STANDARD
END:VTIMEZONE
END:VCALENDAR