BEGIN:VCALENDAR
VERSION:2.0
PRODID:-//wp-events-plugin.com//7.2.3.1//EN
TZID:America/New_York
X-WR-TIMEZONE:America/New_York
BEGIN:VEVENT
UID:633@westendtemple.org
DTSTART;TZID=America/New_York:20260307T101500
DTEND;TZID=America/New_York:20260307T121500
DTSTAMP:20260114T174410Z
URL:https://www.westendtemple.org/events/shabbat-service-8/
SUMMARY:Shabbat Service
DESCRIPTION:
END:VEVENT
BEGIN:VTIMEZONE
TZID:America/New_York
X-LIC-LOCATION:America/New_York
BEGIN:STANDARD
DTSTART:20251102T010000
TZOFFSETFROM:-0400
TZOFFSETTO:-0500
TZNAME:EST
END:STANDARD
END:VTIMEZONE
END:VCALENDAR