BEGIN:VCALENDAR
VERSION:2.0
PRODID:-//wp-events-plugin.com//7.2.3.1//EN
TZID:America/New_York
X-WR-TIMEZONE:America/New_York
BEGIN:VEVENT
UID:655@westendtemple.org
DTSTART;TZID=America/New_York:20260522T193000
DTEND;TZID=America/New_York:20260522T220000
DTSTAMP:20260421T195208Z
URL:https://www.westendtemple.org/events/shabbat-service-and-the-bar-mitzv
 ah-of-jordan-greenberg-led-by-rabbi-rebecca-epstein-and-student-cantor-mar
 go-wagner/
SUMMARY:Shabbat Service and the Bat Mitzvah of Jordan Greenberg\, led by Ra
 bbi Rebecca Epstein and Student Cantor Margo Wagner
DESCRIPTION:
END:VEVENT
BEGIN:VTIMEZONE
TZID:America/New_York
X-LIC-LOCATION:America/New_York
BEGIN:DAYLIGHT
DTSTART:20260308T030000
TZOFFSETFROM:-0500
TZOFFSETTO:-0400
TZNAME:EDT
END:DAYLIGHT
END:VTIMEZONE
END:VCALENDAR