BEGIN:VCALENDAR
VERSION:2.0
PRODID:-//wp-events-plugin.com//7.2.3.1//EN
TZID:America/New_York
X-WR-TIMEZONE:America/New_York
BEGIN:VEVENT
UID:557@westendtemple.org
DTSTART;TZID=America/New_York:20250718T193000
DTEND;TZID=America/New_York:20250718T213000
DTSTAMP:20250527T175151Z
URL:https://www.westendtemple.org/events/shabbat-service-led-by-rabbi-epst
 ein-2/
SUMMARY:Shabbat service led by Rabbi Epstein
DESCRIPTION:
END:VEVENT
BEGIN:VTIMEZONE
TZID:America/New_York
X-LIC-LOCATION:America/New_York
BEGIN:DAYLIGHT
DTSTART:20250309T030000
TZOFFSETFROM:-0500
TZOFFSETTO:-0400
TZNAME:EDT
END:DAYLIGHT
END:VTIMEZONE
END:VCALENDAR