BEGIN:VCALENDAR
VERSION:2.0
PRODID:-//wp-events-plugin.com//7.2.3.1//EN
TZID:America/New_York
X-WR-TIMEZONE:America/New_York
BEGIN:VEVENT
UID:525@westendtemple.org
DTSTART;TZID=America/New_York:20241221T101500
DTEND;TZID=America/New_York:20241221T120000
DTSTAMP:20241203T163631Z
URL:https://www.westendtemple.org/events/shabbat-service-led-by-rabbi-rebe
 cca-epstein-and-student-canto-margo-wagner/
SUMMARY:Shabbat Service led by Rabbi Rebecca Epstein and Student Canto Marg
 o Wagner
DESCRIPTION:
END:VEVENT
BEGIN:VTIMEZONE
TZID:America/New_York
X-LIC-LOCATION:America/New_York
BEGIN:STANDARD
DTSTART:20241103T010000
TZOFFSETFROM:-0400
TZOFFSETTO:-0500
TZNAME:EST
END:STANDARD
END:VTIMEZONE
END:VCALENDAR