BEGIN:VCALENDAR
VERSION:2.0
PRODID:-//wp-events-plugin.com//7.2.3.1//EN
TZID:America/New_York
X-WR-TIMEZONE:America/New_York
BEGIN:VEVENT
UID:604@westendtemple.org
DTSTART;TZID=America/New_York:20251212T180000
DTEND;TZID=America/New_York:20251212T210000
DTSTAMP:20251010T174943Z
URL:https://www.westendtemple.org/events/shabbat-service-led-by-rabbi-rebe
 cca-epstein-and-student-cantor-margot-wagner-followed-by-vegetarian-potluc
 k-dinner-2/
SUMMARY:Shabbat Service led by Rabbi Rebecca Epstein and Student Cantor Mar
 go Wagner followed by vegetarian potluck dinner
DESCRIPTION:
END:VEVENT
BEGIN:VTIMEZONE
TZID:America/New_York
X-LIC-LOCATION:America/New_York
BEGIN:STANDARD
DTSTART:20251102T010000
TZOFFSETFROM:-0400
TZOFFSETTO:-0500
TZNAME:EST
END:STANDARD
END:VTIMEZONE
END:VCALENDAR