BEGIN:VCALENDAR
VERSION:2.0
PRODID:-//wp-events-plugin.com//7.2.3.1//EN
TZID:America/New_York
X-WR-TIMEZONE:America/New_York
BEGIN:VEVENT
UID:307@westendtemple.org
DTSTART;TZID=America/New_York:20221210T110000
DTEND;TZID=America/New_York:20221210T121500
DTSTAMP:20221129T191732Z
URL:https://www.westendtemple.org/events/shabbat-service-tot-shabbat/
SUMMARY:Shabbat Service & Tot Shabbat!
DESCRIPTION:Our religious school kids\, our tots\, parents\, elders\, teens
 \, and everyone else are invited to this special day.  We will have an in
 -person Torah study\, Intergenerational Group\, Tot Shabbat\, religious sc
 hool\, and lots of schmoozing\, followed by a Kiddush Lunch at 12:15 pm in
  the Sylvane Room.
END:VEVENT
BEGIN:VTIMEZONE
TZID:America/New_York
X-LIC-LOCATION:America/New_York
BEGIN:STANDARD
DTSTART:20221106T010000
TZOFFSETFROM:-0400
TZOFFSETTO:-0500
TZNAME:EST
END:STANDARD
END:VTIMEZONE
END:VCALENDAR