BEGIN:VCALENDAR
VERSION:2.0
PRODID:-//wp-events-plugin.com//7.2.3.1//EN
TZID:America/New_York
X-WR-TIMEZONE:America/New_York
BEGIN:VEVENT
UID:571@westendtemple.org
DTSTART;TZID=America/New_York:20260117T090000
DTEND;TZID=America/New_York:20260117T130000
DTSTAMP:20250709T193428Z
URL:https://www.westendtemple.org/events/shabbaton-900-am-torah-study-1015
 -shabbat-service-1100-tot-shabbat-1145-lunch-7/
SUMMARY:Shabbaton:  9:00 AM-Torah Study\, 10:15-Shabbat Service\, 11:00- To
 t Shabbat\, 11:45- Lunch
DESCRIPTION:
END:VEVENT
BEGIN:VTIMEZONE
TZID:America/New_York
X-LIC-LOCATION:America/New_York
BEGIN:STANDARD
DTSTART:20251102T010000
TZOFFSETFROM:-0400
TZOFFSETTO:-0500
TZNAME:EST
END:STANDARD
END:VTIMEZONE
END:VCALENDAR