BEGIN:VCALENDAR
VERSION:2.0
PRODID:-//wp-events-plugin.com//7.2.3.1//EN
TZID:America/New_York
X-WR-TIMEZONE:America/New_York
BEGIN:VEVENT
UID:626@westendtemple.org
DTSTART;TZID=America/New_York:20260516T090000
DTEND;TZID=America/New_York:20260516T140000
DTSTAMP:20260326T153833Z
URL:https://www.westendtemple.org/events/shabbaton-900-am-torah-study-1015
 -shabbat-service-1100-tot-shabbat-1145-lunch-9/
SUMMARY:Shabbaton:  9:00 AM-Torah Study\, 10:15-Shabbat Service\, 11:00- To
 t Shabbat\, 11:45- Lunch
DESCRIPTION:
END:VEVENT
BEGIN:VTIMEZONE
TZID:America/New_York
X-LIC-LOCATION:America/New_York
BEGIN:DAYLIGHT
DTSTART:20260308T030000
TZOFFSETFROM:-0500
TZOFFSETTO:-0400
TZNAME:EDT
END:DAYLIGHT
END:VTIMEZONE
END:VCALENDAR