BEGIN:VCALENDAR
VERSION:2.0
PRODID:-//wp-events-plugin.com//7.2.3.1//EN
TZID:America/New_York
X-WR-TIMEZONE:America/New_York
BEGIN:VEVENT
UID:656@westendtemple.org
DTSTART;TZID=America/New_York:20260522T101500
DTEND;TZID=America/New_York:20260522T121500
DTSTAMP:20260326T154622Z
URL:https://www.westendtemple.org/events/shavuot-yizkor-service-led-by-rab
 bi-rebecca-epstein-and-student-cantor-margo-wagner/
SUMMARY:Shavuot Yizkor Service led by Rabbi Rebecca Epstein and Student Can
 tor Margo Wagner
DESCRIPTION:
END:VEVENT
BEGIN:VTIMEZONE
TZID:America/New_York
X-LIC-LOCATION:America/New_York
BEGIN:DAYLIGHT
DTSTART:20260308T030000
TZOFFSETFROM:-0500
TZOFFSETTO:-0400
TZNAME:EDT
END:DAYLIGHT
END:VTIMEZONE
END:VCALENDAR