BEGIN:VCALENDAR
VERSION:2.0
PRODID:-//wp-events-plugin.com//7.2.3.1//EN
TZID:America/New_York
X-WR-TIMEZONE:America/New_York
BEGIN:VEVENT
UID:494@westendtemple.org
DTSTART;TZID=America/New_York:20241017T101500
DTEND;TZID=America/New_York:20241017T130000
DTSTAMP:20240904T193121Z
URL:https://www.westendtemple.org/events/sukkot-festival-service-followed-
 by-sushi-in-the-sukkah-tickets-and-rsvp-a-must/
SUMMARY:Sukkot Festival Service followed by Sushi in the Sukkah - Tickets a
 nd RSVP Required
DESCRIPTION:
END:VEVENT
BEGIN:VTIMEZONE
TZID:America/New_York
X-LIC-LOCATION:America/New_York
BEGIN:DAYLIGHT
DTSTART:20240310T030000
TZOFFSETFROM:-0500
TZOFFSETTO:-0400
TZNAME:EDT
END:DAYLIGHT
END:VTIMEZONE
END:VCALENDAR