BEGIN:VCALENDAR
VERSION:2.0
PRODID:-//wp-events-plugin.com//7.2.3.1//EN
TZID:America/New_York
X-WR-TIMEZONE:America/New_York
BEGIN:VEVENT
UID:182@westendtemple.org
DTSTART;TZID=America/New_York:20230701T090000
DTEND;TZID=America/New_York:20230701T090000
DTSTAMP:20230705T190737Z
URL:https://www.westendtemple.org/events/torah-study/
SUMMARY:Torah Study (Zoom Only)
DESCRIPTION:Join Rabbi Epstein in delving into the weekly Torah portion and
  exploring how its themes can impact and guide our lives.\n\nPlease email 
 Rabbi Epstein\, rabbi.epstein@westendtemple.org\, for more information and
 /or to receive the Zoom link.
END:VEVENT
BEGIN:VTIMEZONE
TZID:America/New_York
X-LIC-LOCATION:America/New_York
BEGIN:DAYLIGHT
DTSTART:20230312T030000
TZOFFSETFROM:-0500
TZOFFSETTO:-0400
TZNAME:EDT
END:DAYLIGHT
END:VTIMEZONE
END:VCALENDAR