BEGIN:VCALENDAR
VERSION:2.0
PRODID:-//wp-events-plugin.com//7.2.3.1//EN
TZID:America/New_York
X-WR-TIMEZONE:America/New_York
BEGIN:VEVENT
UID:613@westendtemple.org
DTSTART;TZID=America/New_York:20260201T170000
DTEND;TZID=America/New_York:20260201T200000
DTSTAMP:20251218T143742Z
URL:https://www.westendtemple.org/events/tu-bshevat-seder-2/
SUMMARY:Tu B'Shevat Seder RSVP  $20 suggested donation per family
DESCRIPTION:
END:VEVENT
BEGIN:VTIMEZONE
TZID:America/New_York
X-LIC-LOCATION:America/New_York
BEGIN:STANDARD
DTSTART:20251102T010000
TZOFFSETFROM:-0400
TZOFFSETTO:-0500
TZNAME:EST
END:STANDARD
END:VTIMEZONE
END:VCALENDAR